BEGIN:VCALENDAR
VERSION:2.0
PRODID:-//PMI Montgomery County MD Chapter - ECPv6.8.1//NONSGML v1.0//EN
CALSCALE:GREGORIAN
METHOD:PUBLISH
X-ORIGINAL-URL:https://pmimontgomerycountymd.org
X-WR-CALDESC:Events for PMI Montgomery County MD Chapter
REFRESH-INTERVAL;VALUE=DURATION:PT1H
X-Robots-Tag:noindex
X-PUBLISHED-TTL:PT1H
BEGIN:VTIMEZONE
TZID:America/New_York
BEGIN:DAYLIGHT
TZOFFSETFROM:-0500
TZOFFSETTO:-0400
TZNAME:EDT
DTSTART:20260308T070000
END:DAYLIGHT
BEGIN:STANDARD
TZOFFSETFROM:-0400
TZOFFSETTO:-0500
TZNAME:EST
DTSTART:20261101T060000
END:STANDARD
END:VTIMEZONE
BEGIN:VEVENT
DTSTART;VALUE=DATE:20260421
DTEND;VALUE=DATE:20260422
DTSTAMP:20260419T090346
CREATED:20260313T181907Z
LAST-MODIFIED:20260313T181907Z
UID:43675-1776729600-1776815999@pmimontgomerycountymd.org
SUMMARY:College Fair: NACAC National College Fair - Montgomery County (MD)
DESCRIPTION:The NACAC Montgomery County National College Fair is your once‑a‑year opportunity to take control of your college search with clarity\, confidence\, and momentum. Whether you’re exploring majors\, comparing campus experiences\, or trying to understand what truly makes a school the right fit\, this fair brings hundreds of colleges and universities directly to you—all in one place. With your personalized College Matchmaking™ results and a scannable registration barcode\, you’ll walk in ready to have meaningful\, efficient conversations with the schools that align with your goals\, interests\, and future ambitions. \nThis event isn’t just about collecting brochures—it’s about unlocking real insight. You’ll meet admission representatives face‑to‑face\, ask the questions that matter\, and gather the kind of firsthand information no website can match. Be bold\, explore widely\, and discover options you may never have considered. Whether you’re a student\, a parent\, or a “divide‑and‑conquer” team tackling the fair together\, you’ll leave with a clearer path\, stronger connections\, and a smarter strategy for the journey ahead. Don’t miss your chance to make this the moment your college search truly takes off.
URL:https://pmimontgomerycountymd.org/event/college-fair-nacac-national-college-fair-montgomery-county-md/
LOCATION:Adventist HealthCare Fieldhouse\, 18031 Central Park Circle\, Boyds\, MD\, 20841\, United States
CATEGORIES:Out of the Box Event
END:VEVENT
BEGIN:VEVENT
DTSTART;VALUE=DATE:20260428
DTEND;VALUE=DATE:20260501
DTSTAMP:20260419T090346
CREATED:20260129T154346Z
LAST-MODIFIED:20260129T154346Z
UID:43356-1777334400-1777593599@pmimontgomerycountymd.org
SUMMARY:Department of War Event: Modern Day Marine 2026
DESCRIPTION:*Eligible to valid Military\, DoD Civilians and other Govt Employees* \nModern Day Marine is your chance to engage with a variety of events designed to deepen your understanding of defense programs and priorities\, expand your network\, and enhance your professional development. \nPlus\, with over 300 exhibitors on-site\, you get to experience the latest defense innovations. Check out some of what you will see at this year’s show below! \nSessions on the Show Floor\nGain insights from over 50 presentations delivered by Marine Corps senior leaders\, defense officials\, industry experts\, program managers\, and others. Explore key topics shaping the Marine Corps and the broader defense industry. \nWarfighting Reception\nThis gathering brings together government officials\, industry leaders\, military representatives\, and Marine Corps personnel to network\, share insights\, and strengthen collaboration in support of security and defense. \nContracts Industry Day\nMarine Corps Enterprise-level contracting offices will host this Industry Day to strengthen engagement with industry and small businesses\, sharing acquisition forecasts\, strategies\, and upcoming opportunities in support of the Deputy Secretary of Defense’s initiative to modernize key capabilities and enhance innovation across the national security base.
URL:https://pmimontgomerycountymd.org/event/department-of-war-event-modern-day-marine-2026/
LOCATION:Walter E. Washington Convention Center\, 801 Allen Y. Lew Place\, NW\, Washington\, DC\, 20001\, United States
CATEGORIES:Out of the Box Event
END:VEVENT
END:VCALENDAR